BEGIN:VCALENDAR
VERSION:2.0
PRODID:-//185.26.156.223//NONSGML kigkonsult.se iCalcreator 2.26.9//
CALSCALE:GREGORIAN
METHOD:PUBLISH
X-FROM-URL:https://mathe-therapie-zentrum.de
X-WR-TIMEZONE:Europe/Berlin
BEGIN:VTIMEZONE
TZID:Europe/Berlin
X-LIC-LOCATION:Europe/Berlin
BEGIN:STANDARD
DTSTART:20251026T030000
TZOFFSETFROM:+0200
TZOFFSETTO:+0100
RDATE:20261025T030000
TZNAME:CET
END:STANDARD
BEGIN:DAYLIGHT
DTSTART:20260329T020000
TZOFFSETFROM:+0100
TZOFFSETTO:+0200
RDATE:20270328T020000
TZNAME:CEST
END:DAYLIGHT
END:VTIMEZONE
BEGIN:VEVENT
UID:ai1ec-15259@mathe-therapie-zentrum.de
DTSTAMP:20260420T034119Z
CATEGORIES:
CONTACT:Amonte frühling\; 0176-71215221\; info@mathe-therapiezentrum.de\; w
 ww.mathe-therapie-zentrum.de
DESCRIPTION:<p><a href='http://mathe-therapie-zentrum.de/wp-content/uploads
 /2024/04/Flyer-Informationsabend-2024-1.docx'>Flyer Informationsabend 2024
 -1</a></p>\n<p><strong>Themen des Abends sind:</strong><strong> </strong><
 /p>\n<ul>\n<li>Warum versteht mein Kind Mathe nicht?</li>\n<li>Was bedeute
 t Rechenschwäche und Dyskalkulie?</li>\n<li>Was hilft bei Mathe-Problemen?
 </li>\n<li>Wie kann ich mein Kind zuhause unterstützen?</li>\n<li>Es ist Z
 eit für Ihre Fragen eingeplant</li>\n</ul>
DTSTART;TZID=Europe/Berlin:20240423T193000
DTEND;TZID=Europe/Berlin:20240423T210000
LOCATION:Mathe-Therapie-Zentrum @ Obere Römerhofstr.144\, 61381 Friedrichsd
 orf
SEQUENCE:0
SUMMARY:Informationsabend zur Rechenschwäche/Dyskalkulie
URL:https://mathe-therapie-zentrum.de/event/informationsabend-zur-rechensch
 wache-dyskalkulie/
X-COST-TYPE:free
END:VEVENT
BEGIN:VEVENT
UID:ai1ec-15267@mathe-therapie-zentrum.de
DTSTAMP:20260420T034119Z
CATEGORIES:
CONTACT:Amonte Frühling\; 0176-71215221\; info@mathe-therapiezentrum.de\; w
 ww.mathe-therapiezentrum.de
DESCRIPTION:<p><strong><a href='http://mathe-therapie-zentrum.de/wp-content
 /uploads/2024/04/FlyerInformationsabendFruhkindlicheReflexe-2024-01.docx'>
 FlyerInformationsabendFrühkindlicheReflexe 2024-01</a></strong></p>\n<p><s
 trong>Themen des Abends sind:</strong><strong> </strong></p>\n<ul>\n<li>Wa
 s sind frühkindliche Reflexe?</li>\n<li>Welche Auswirkungen haben bestehen
 de frühkindliche Reflexe?</li>\n<li>Wie wirken sich frühkindliche Reflexe 
 auf die Schulkompetenzen aus?</li>\n<li>Wie kann ich mein Kind unterstütze
 n?</li>\n<li>Welche Therapiemöglichkeiten gibt es?</li>\n</ul>\n<p>Ich bit
 te um eine Anmeldung per Mail\, WhatsApp oder telefonisch.</p>
DTSTART;TZID=Europe/Berlin:20240507T193000
DTEND;TZID=Europe/Berlin:20240507T210000
LOCATION:Mathe-Therapie-Zentrum @ Obere Römerhofstr.144\, 61381 Friedrichsd
 orf
SEQUENCE:0
SUMMARY:Informationsabend zu frühkindlichen Reflexen und ihre Auswirkungen 
 auf das Lernen und Verhalten
URL:https://mathe-therapie-zentrum.de/event/informationsabend-zu-fruhkindli
 chen-reflexen-und-ihre-auswirkungen-auf-das-lernen-und-verhalten/
X-COST-TYPE:free
END:VEVENT
BEGIN:VEVENT
UID:ai1ec-15272@mathe-therapie-zentrum.de
DTSTAMP:20260420T034119Z
CATEGORIES:
CONTACT:Amonte Frühling\; 0176-71215221\; info@mathe-therapiezentrum.de\; w
 ww.Mathe-Therapie-Zentrum.de
DESCRIPTION:<h2><a href='http://mathe-therapie-zentrum.de/wp-content/upload
 s/2024/04/ElternWorkshop20240610.docx'>ElternWorkshop20240610</a></h2>\n<h
 2>Der Workshop umfasst folgende Punkte und richtet sich an Eltern\, die be
 reits Kinder hier in der Therapie haben:</h2>\n<h2>·      <strong>Wie könn
 en wir die Kompetenzen unserer Kinder fördern?</strong></h2>\n<h2>·      <
 strong>Wie erkläre ich Aufgaben und wie gestalte ich Hausaufgaben?</strong
 ></h2>\n<h2>·      <strong>Wie baue ich die Mathematik in den Alltag der K
 inder ein?</strong></h2>
DTSTART;TZID=Europe/Berlin:20240610T190000
DTEND;TZID=Europe/Berlin:20240610T203000
LOCATION:Mathe-Therapie-Zentrum @ Obere Römerhofstr.144\, 61381 Friedrichsd
 orf
SEQUENCE:0
SUMMARY:Elternworkshop
URL:https://mathe-therapie-zentrum.de/event/15272/
X-COST-TYPE:free
END:VEVENT
END:VCALENDAR
